BEGIN:VCALENDAR
VERSION:2.0
PRODID:-//Oldenzaalse Bridge Club - ECPv6.15.20//NONSGML v1.0//EN
CALSCALE:GREGORIAN
METHOD:PUBLISH
X-WR-CALNAME:Oldenzaalse Bridge Club
X-ORIGINAL-URL:https://oldenzaalsebridgeclub.nl
X-WR-CALDESC:Evenementen voor Oldenzaalse Bridge Club
REFRESH-INTERVAL;VALUE=DURATION:PT1H
X-Robots-Tag:noindex
X-PUBLISHED-TTL:PT1H
BEGIN:VTIMEZONE
TZID:Europe/Amsterdam
BEGIN:DAYLIGHT
TZOFFSETFROM:+0100
TZOFFSETTO:+0200
TZNAME:CEST
DTSTART:20250330T010000
END:DAYLIGHT
BEGIN:STANDARD
TZOFFSETFROM:+0200
TZOFFSETTO:+0100
TZNAME:CET
DTSTART:20251026T010000
END:STANDARD
BEGIN:DAYLIGHT
TZOFFSETFROM:+0100
TZOFFSETTO:+0200
TZNAME:CEST
DTSTART:20260329T010000
END:DAYLIGHT
BEGIN:STANDARD
TZOFFSETFROM:+0200
TZOFFSETTO:+0100
TZNAME:CET
DTSTART:20261025T010000
END:STANDARD
BEGIN:DAYLIGHT
TZOFFSETFROM:+0100
TZOFFSETTO:+0200
TZNAME:CEST
DTSTART:20270328T010000
END:DAYLIGHT
BEGIN:STANDARD
TZOFFSETFROM:+0200
TZOFFSETTO:+0100
TZNAME:CET
DTSTART:20271031T010000
END:STANDARD
END:VTIMEZONE
BEGIN:VEVENT
DTSTART;TZID=Europe/Amsterdam:20260324T190000
DTEND;TZID=Europe/Amsterdam:20260324T220000
DTSTAMP:20260420T205123
CREATED:20251220T231843Z
LAST-MODIFIED:20251220T231843Z
UID:8422-1774378800-1774389600@oldenzaalsebridgeclub.nl
SUMMARY:Verdiepings cursus les 24
DESCRIPTION:
URL:https://oldenzaalsebridgeclub.nl/event/verdiepings-cursus-les-24/
CATEGORIES:Gevorderden;;;;
END:VEVENT
END:VCALENDAR