BEGIN:VCALENDAR
VERSION:2.0
PRODID:-//Oldenzaalse Bridge Club - ECPv6.15.20//NONSGML v1.0//EN
CALSCALE:GREGORIAN
METHOD:PUBLISH
X-WR-CALNAME:Oldenzaalse Bridge Club
X-ORIGINAL-URL:https://oldenzaalsebridgeclub.nl
X-WR-CALDESC:Evenementen voor Oldenzaalse Bridge Club
REFRESH-INTERVAL;VALUE=DURATION:PT1H
X-Robots-Tag:noindex
X-PUBLISHED-TTL:PT1H
BEGIN:VTIMEZONE
TZID:Europe/Amsterdam
BEGIN:DAYLIGHT
TZOFFSETFROM:+0100
TZOFFSETTO:+0200
TZNAME:CEST
DTSTART:20250330T010000
END:DAYLIGHT
BEGIN:STANDARD
TZOFFSETFROM:+0200
TZOFFSETTO:+0100
TZNAME:CET
DTSTART:20251026T010000
END:STANDARD
BEGIN:DAYLIGHT
TZOFFSETFROM:+0100
TZOFFSETTO:+0200
TZNAME:CEST
DTSTART:20260329T010000
END:DAYLIGHT
BEGIN:STANDARD
TZOFFSETFROM:+0200
TZOFFSETTO:+0100
TZNAME:CET
DTSTART:20261025T010000
END:STANDARD
BEGIN:DAYLIGHT
TZOFFSETFROM:+0100
TZOFFSETTO:+0200
TZNAME:CEST
DTSTART:20270328T010000
END:DAYLIGHT
BEGIN:STANDARD
TZOFFSETFROM:+0200
TZOFFSETTO:+0100
TZNAME:CET
DTSTART:20271031T010000
END:STANDARD
END:VTIMEZONE
BEGIN:VEVENT
DTSTART;TZID=Europe/Amsterdam:20260423T193000
DTEND;TZID=Europe/Amsterdam:20260423T223000
DTSTAMP:20260420T140100
CREATED:20251221T000206Z
LAST-MODIFIED:20251221T000206Z
UID:8440-1776972600-1776983400@oldenzaalsebridgeclub.nl
SUMMARY:Voorjaar competitie 26 - 15
DESCRIPTION:
URL:https://oldenzaalsebridgeclub.nl/event/voorjaar-competitie-26-15/
CATEGORIES:Voorjaar competitie
END:VEVENT
BEGIN:VEVENT
DTSTART;TZID=Europe/Amsterdam:20260430T193000
DTEND;TZID=Europe/Amsterdam:20260430T223000
DTSTAMP:20260420T140100
CREATED:20251221T000220Z
LAST-MODIFIED:20260320T221709Z
UID:8441-1777577400-1777588200@oldenzaalsebridgeclub.nl
SUMMARY:Koningsdrive
DESCRIPTION:
URL:https://oldenzaalsebridgeclub.nl/event/koningsdrive/
END:VEVENT
END:VCALENDAR